BEGIN:VCALENDAR
VERSION:2.0
PRODID:-//Sabre//Sabre VObject 4.5.8//EN
CALSCALE:GREGORIAN
BEGIN:VEVENT
UID:sabre-vobject-5d3235d0-0efb-4ec0-b385-67515a7c4f65
DTSTAMP:20260422T001255Z
SUMMARY:Kinder im Museum: Die Steinzeit
DESCRIPTION:https://regioningolstadt.com/kinder-im-museum-die-steinzeit_id3
 7880
DTSTART;TZID=Europe/Berlin:20250329T143000
DTEND;TZID=Europe/Berlin:20250329T163000
LOCATION:Zentrum Stadtgeschichte\, \,  
END:VEVENT
END:VCALENDAR
