BEGIN:VCALENDAR
VERSION:2.0
PRODID:-//Sabre//Sabre VObject 4.5.8//EN
CALSCALE:GREGORIAN
BEGIN:VEVENT
UID:sabre-vobject-94392681-34b4-4651-918c-5dae940f3dba
DTSTAMP:20260422T073736Z
SUMMARY:Kinder im Museum: Die Räuber
DESCRIPTION:https://regioningolstadt.com/kinder-im-museum-die-raeuber_id378
 79
DTSTART;TZID=Europe/Berlin:20250323T143000
DTEND;TZID=Europe/Berlin:20250323T163000
LOCATION:Zentrum Stadtgeschichte\, \,  
END:VEVENT
END:VCALENDAR
