BEGIN:VCALENDAR
VERSION:2.0
PRODID:-//Sabre//Sabre VObject 4.5.8//EN
CALSCALE:GREGORIAN
BEGIN:VEVENT
UID:sabre-vobject-f82065d5-59ab-4a35-92d9-32d866655466
DTSTAMP:20260422T024255Z
SUMMARY:Kinder im Museum: Holz\, eines der ältesten Baumaterialien der Men
 schheit
DESCRIPTION:https://regioningolstadt.com/kinder-im-museum-holz-eines-der-ae
 ltesten-baumaterialien-der-menschheit_id37878
DTSTART;TZID=Europe/Berlin:20250323T103000
DTEND;TZID=Europe/Berlin:20250323T133000
LOCATION:Zentrum Stadtgeschichte\, \,  
END:VEVENT
END:VCALENDAR
