BEGIN:VCALENDAR
VERSION:2.0
PRODID:-//Sabre//Sabre VObject 4.5.8//EN
CALSCALE:GREGORIAN
BEGIN:VEVENT
UID:sabre-vobject-93cd6555-58ed-46f5-8391-b0aa17a6a1c9
DTSTAMP:20260421T132909Z
SUMMARY:Kinder im Museum: Mit Asterix und Obelix die Kelten entdecken
DESCRIPTION:https://regioningolstadt.com/kinder-im-museum-mit-asterix-und-o
 belix-die-kelten-entdecken_id37877
DTSTART;TZID=Europe/Berlin:20250322T101500
DTEND;TZID=Europe/Berlin:20250322T121500
LOCATION:Zentrum Stadtgeschichte\, \,  
END:VEVENT
END:VCALENDAR
