BEGIN:VCALENDAR
VERSION:2.0
PRODID:-//Sabre//Sabre VObject 4.5.8//EN
CALSCALE:GREGORIAN
BEGIN:VEVENT
UID:sabre-vobject-c108b798-af59-4e02-883b-b576536fddb1
DTSTAMP:20260422T222342Z
SUMMARY:In Preparation Das offene Labor
DESCRIPTION:https://regioningolstadt.com/in-preparation-das-offene-labor_id
 37820
DTSTART;TZID=Europe/Berlin:20250326T100000
DTEND;TZID=Europe/Berlin:20250326T170000
LOCATION:Museum für Konkrete Kunst\, Tränktorstraße 6 - 8\, 85049 Ingols
 tadt
END:VEVENT
END:VCALENDAR
