BEGIN:VCALENDAR
VERSION:2.0
PRODID:-//Sabre//Sabre VObject 4.5.8//EN
CALSCALE:GREGORIAN
BEGIN:VEVENT
UID:sabre-vobject-09f02eb1-d9f8-4c38-93fa-0c8a86db3566
DTSTAMP:20260420T130600Z
SUMMARY:In Preparation Das offene Labor
DESCRIPTION:https://regioningolstadt.com/in-preparation-das-offene-labor_id
 37819
DTSTART;TZID=Europe/Berlin:20250319T100000
DTEND;TZID=Europe/Berlin:20250319T170000
LOCATION:Museum für Konkrete Kunst\, Tränktorstraße 6 - 8\, 85049 Ingols
 tadt
END:VEVENT
END:VCALENDAR
