BEGIN:VCALENDAR
VERSION:2.0
PRODID:-//Sabre//Sabre VObject 4.5.8//EN
CALSCALE:GREGORIAN
BEGIN:VEVENT
UID:sabre-vobject-7eaa5304-a6a8-4e65-83c1-4ed36d9562dd
DTSTAMP:20260421T204632Z
SUMMARY:ORGELKONZERT IM KERZENSCHEIN
DESCRIPTION:https://regioningolstadt.com/orgelkonzert-im-kerzenschein_id378
 10
DTSTART;TZID=Europe/Berlin:20251226T180000
DTEND;TZID=Europe/Berlin:20251226T190000
LOCATION:St. Matthäuskirche\, Schrannenstraße 7\, 85049 Ingolstadt
END:VEVENT
END:VCALENDAR
