BEGIN:VCALENDAR
VERSION:2.0
PRODID:-//Sabre//Sabre VObject 4.5.8//EN
CALSCALE:GREGORIAN
BEGIN:VEVENT
UID:sabre-vobject-e7ee151b-9424-4e16-be15-45fd6c878e5f
DTSTAMP:20260422T112511Z
SUMMARY:TROMPETE UND ORGEL
DESCRIPTION:https://regioningolstadt.com/trompete-und-orgel_id37809
DTSTART;TZID=Europe/Berlin:20251206T180000
DTEND;TZID=Europe/Berlin:20251206T190000
LOCATION:St. Matthäuskirche\, Schrannenstraße 7\, 85049 Ingolstadt
END:VEVENT
END:VCALENDAR
