BEGIN:VCALENDAR
VERSION:2.0
PRODID:-//Sabre//Sabre VObject 4.5.8//EN
CALSCALE:GREGORIAN
BEGIN:VEVENT
UID:sabre-vobject-ffb1106d-9a25-4db1-801f-6cecec4c4236
DTSTAMP:20260423T011049Z
SUMMARY:LOS GEHTS\, IHM NACH! - KMD Michael Haag (Weißenburg)\, Orgel
DESCRIPTION:https://regioningolstadt.com/los-gehts-ihm-nach-kmd-michael-haa
 g-weissenburg-orgel_id37808
DTSTART;TZID=Europe/Berlin:20251122T170000
DTEND;TZID=Europe/Berlin:20251122T180000
LOCATION:St. Matthäuskirche\, Schrannenstraße 7\, 85049 Ingolstadt
END:VEVENT
END:VCALENDAR
