BEGIN:VCALENDAR
VERSION:2.0
PRODID:-//Sabre//Sabre VObject 4.5.8//EN
CALSCALE:GREGORIAN
BEGIN:VEVENT
UID:sabre-vobject-9a7816e5-e3fa-4aad-b389-2a517b9e5617
DTSTAMP:20260423T144034Z
SUMMARY:KONZERT MIT SINGINPOOL
DESCRIPTION:https://regioningolstadt.com/konzert-mit-singinpool_id37807
DTSTART;TZID=Europe/Berlin:20251115T193000
DTEND;TZID=Europe/Berlin:20251115T203000
LOCATION:St. Matthäuskirche\, Schrannenstraße 7\, 85049 Ingolstadt
END:VEVENT
END:VCALENDAR
