BEGIN:VCALENDAR
VERSION:2.0
PRODID:-//Sabre//Sabre VObject 4.5.8//EN
CALSCALE:GREGORIAN
BEGIN:VEVENT
UID:sabre-vobject-9cecd912-e04c-47e4-a422-42abe6651c3f
DTSTAMP:20260422T102731Z
SUMMARY:ORGELKONZERT ROMAN HAUSER (Wien)
DESCRIPTION:https://regioningolstadt.com/orgelkonzert-roman-hauser-wien_id3
 7802
DTSTART;TZID=Europe/Berlin:20250517T190000
DTEND;TZID=Europe/Berlin:20250517T200000
LOCATION:St. Matthäuskirche\, Schrannenstraße 7\, 85049 Ingolstadt
END:VEVENT
END:VCALENDAR
