BEGIN:VCALENDAR
VERSION:2.0
PRODID:-//Sabre//Sabre VObject 4.5.8//EN
CALSCALE:GREGORIAN
BEGIN:VEVENT
UID:sabre-vobject-eab628bd-d2ac-4796-945f-748a85cc16d5
DTSTAMP:20260422T102731Z
SUMMARY:IN MEMORIAM GORDON SHERWOOD
DESCRIPTION:https://regioningolstadt.com/in-memoriam-gordon-sherwood_id3779
 9
DTSTART;TZID=Europe/Berlin:20250323T170000
DTEND;TZID=Europe/Berlin:20250323T190000
LOCATION:St. Matthäuskirche\, Schrannenstraße 7\, 85049 Ingolstadt
END:VEVENT
END:VCALENDAR
