BEGIN:VCALENDAR
VERSION:2.0
PRODID:-//Sabre//Sabre VObject 4.5.8//EN
CALSCALE:GREGORIAN
BEGIN:VEVENT
UID:sabre-vobject-bdaf3ae6-c961-4a59-ab51-0cb415ada47f
DTSTAMP:20260422T160419Z
SUMMARY:Fotoausstellung im Kreuztor
DESCRIPTION:https://regioningolstadt.com/fotoausstellung-im-kreuztor_id3778
 8
DTSTART;TZID=Europe/Berlin:20250511T110000
DTEND;TZID=Europe/Berlin:20250511T180000
LOCATION:Kreuztor Ingolstadt\, Kreuzstraße \, 85049 Ingolstadt
END:VEVENT
END:VCALENDAR
