BEGIN:VCALENDAR
VERSION:2.0
PRODID:-//Sabre//Sabre VObject 4.5.8//EN
CALSCALE:GREGORIAN
BEGIN:VEVENT
UID:sabre-vobject-d3a8bab7-37e7-48a5-a2da-26fde60cbcef
DTSTAMP:20260421T232948Z
SUMMARY:Fotoausstellung im Kreuztor
DESCRIPTION:https://regioningolstadt.com/fotoausstellung-im-kreuztor_id3778
 7
DTSTART;TZID=Europe/Berlin:20250510T110000
DTEND;TZID=Europe/Berlin:20250510T180000
LOCATION:Kreuztor Ingolstadt\, Kreuzstraße \, 85049 Ingolstadt
END:VEVENT
END:VCALENDAR
