BEGIN:VCALENDAR
VERSION:2.0
PRODID:-//Sabre//Sabre VObject 4.5.8//EN
CALSCALE:GREGORIAN
BEGIN:VEVENT
UID:sabre-vobject-b8e6648e-2d88-46bf-bdfa-cb40e69b88d4
DTSTAMP:20260420T130558Z
SUMMARY:Ausstellungseröffnung: Ansichtssache. Menschliche Präparate im Mu
 seum
DESCRIPTION:https://regioningolstadt.com/ausstellungseroeffnung-ansichtssac
 he-menschliche-praeparate-im-museum_id37776
DTSTART;TZID=Europe/Berlin:20250402T190000
DTEND;TZID=Europe/Berlin:20250402T220000
LOCATION:Deutsches Medizinhistorisches Museum\, Anatomiestraße 18 – 20\,
  85049 Ingolstadt
END:VEVENT
END:VCALENDAR
