BEGIN:VCALENDAR
VERSION:2.0
PRODID:-//Sabre//Sabre VObject 4.5.8//EN
CALSCALE:GREGORIAN
BEGIN:VEVENT
UID:sabre-vobject-a9e14d38-2d73-4b85-8283-e32f0d405165
DTSTAMP:20260420T203025Z
SUMMARY:transform.10: Zukunft gestalten - Transformation der MINT-Berufsbil
 der
DESCRIPTION:https://regioningolstadt.com/transform-10-zukunft-gestalten-tra
 nsformation-der-mint-berufsbilder_id37775
DTSTART;TZID=Europe/Berlin:20250401T163000
DTEND;TZID=Europe/Berlin:20250401T183000
LOCATION:Neues Dalwigk - 5. Stock\, Schloßlände 27\, 85049 Ingolstadt
END:VEVENT
END:VCALENDAR
