BEGIN:VCALENDAR
VERSION:2.0
PRODID:-//Sabre//Sabre VObject 4.5.8//EN
CALSCALE:GREGORIAN
BEGIN:VEVENT
UID:sabre-vobject-6525b3d9-5d71-4561-a3fe-b0202d37aaa1
DTSTAMP:20260421T011419Z
SUMMARY:Reihe: Mittagsvisite
DESCRIPTION:https://regioningolstadt.com/reihe-mittagsvisite_id37774
DTSTART;TZID=Europe/Berlin:20250401T123000
DTEND;TZID=Europe/Berlin:20250401T130000
LOCATION:Deutsches Medizinhistorisches Museum\, Anatomiestraße 18 – 20\,
  85049 Ingolstadt
END:VEVENT
END:VCALENDAR
