BEGIN:VCALENDAR
VERSION:2.0
PRODID:-//Sabre//Sabre VObject 4.5.8//EN
CALSCALE:GREGORIAN
BEGIN:VEVENT
UID:sabre-vobject-950e04a5-b097-4344-bfd5-82cddad12436
DTSTAMP:20260422T203937Z
SUMMARY:transform.10: Zukunft gestalten - Transformation der MINT-Berufsbil
 der
DESCRIPTION:https://regioningolstadt.com/transform-10-zukunft-gestalten-tra
 nsformation-der-mint-berufsbilder_id37773
DTSTART;TZID=Europe/Berlin:20250325T163000
DTEND;TZID=Europe/Berlin:20250325T183000
LOCATION:Neues Dalwigk - 5. Stock\, Schloßlände 27\, 85049 Ingolstadt
END:VEVENT
END:VCALENDAR
