BEGIN:VCALENDAR
VERSION:2.0
PRODID:-//Sabre//Sabre VObject 4.5.8//EN
CALSCALE:GREGORIAN
BEGIN:VEVENT
UID:sabre-vobject-4c55d3ee-7abc-4eb9-9840-ae253ec5de02
DTSTAMP:20260422T163055Z
SUMMARY:Zukunftsfähigkeit durch Foresight
DESCRIPTION:https://regioningolstadt.com/zukunftsfaehigkeit-durch-foresight
 _id37722
DTSTART;TZID=Europe/Berlin:20250328T090000
DTEND;TZID=Europe/Berlin:20250328T100000
LOCATION:Online-Veranstaltung\, \,  
END:VEVENT
END:VCALENDAR
