BEGIN:VCALENDAR
VERSION:2.0
PRODID:-//Sabre//Sabre VObject 4.5.8//EN
CALSCALE:GREGORIAN
BEGIN:VEVENT
UID:sabre-vobject-a37f9aee-5971-40d7-9112-7fcf3019ca20
DTSTAMP:20260421T053954Z
SUMMARY:Resilienz am Arbeitsplatz
DESCRIPTION:https://regioningolstadt.com/resilienz-am-arbeitsplatz_id37721
DTSTART;TZID=Europe/Berlin:20250321T090000
DTEND;TZID=Europe/Berlin:20250321T100000
LOCATION:Online-Veranstaltung\, \,  
END:VEVENT
END:VCALENDAR
