BEGIN:VCALENDAR
VERSION:2.0
PRODID:-//Sabre//Sabre VObject 4.5.8//EN
CALSCALE:GREGORIAN
BEGIN:VEVENT
UID:sabre-vobject-f2478869-c508-4df1-ab10-1160dfa72927
DTSTAMP:20260420T192422Z
SUMMARY:Mutterschutz & Elternzeit – Was Sie als Arbeitgebende beachten m
 üssen
DESCRIPTION:https://regioningolstadt.com/mutterschutz-elternzeit-was-sie-al
 s-arbeitgebende-beachten-muessen_id37720
DTSTART;TZID=Europe/Berlin:20250320T100000
DTEND;TZID=Europe/Berlin:20250320T110000
LOCATION:Online-Veranstaltung\, \,  
END:VEVENT
END:VCALENDAR
