BEGIN:VCALENDAR
VERSION:2.0
PRODID:-//Sabre//Sabre VObject 4.5.8//EN
CALSCALE:GREGORIAN
BEGIN:VEVENT
UID:sabre-vobject-f217f37b-e555-4705-86c8-abe594ab373f
DTSTAMP:20260420T161334Z
SUMMARY:Mentale Gesundheit in Arbeitssettings stärken - Vorteile der Digit
 alisierung nutzen
DESCRIPTION:https://regioningolstadt.com/mentale-gesundheit-in-arbeitssetti
 ngs-staerken-vorteile-der-digitalisierung-nutzen_id37719
DTSTART;TZID=Europe/Berlin:20250319T150000
DTEND;TZID=Europe/Berlin:20250319T163000
LOCATION:Online auf Zoom\, \,  
END:VEVENT
END:VCALENDAR
