BEGIN:VCALENDAR
VERSION:2.0
PRODID:-//Sabre//Sabre VObject 4.5.8//EN
CALSCALE:GREGORIAN
BEGIN:VEVENT
UID:sabre-vobject-282ee27e-d7bc-40d2-94a1-704381878e3a
DTSTAMP:20260422T090722Z
SUMMARY:Frühzeitige Rechtsgestaltung für Geburt\, Ehe\, Pflege- und Todes
 fall
DESCRIPTION:https://regioningolstadt.com/fruehzeitige-rechtsgestaltung-fuer
 -geburt-ehe-pflege-und-todesfall_id37718
DTSTART;TZID=Europe/Berlin:20250319T090000
DTEND;TZID=Europe/Berlin:20250319T103000
LOCATION:Online-Veranstaltung\, \,  
END:VEVENT
END:VCALENDAR
