BEGIN:VCALENDAR
VERSION:2.0
PRODID:-//Sabre//Sabre VObject 4.5.8//EN
CALSCALE:GREGORIAN
BEGIN:VEVENT
UID:sabre-vobject-5f66da54-de8c-4c3c-966e-e7769642edb8
DTSTAMP:20260420T061114Z
SUMMARY:KI-Anwendungen mit Cloud-Technologien realisieren
DESCRIPTION:https://regioningolstadt.com/ki-anwendungen-mit-cloud-technolog
 ien-realisieren_id37717
DTSTART;TZID=Europe/Berlin:20250318T140000
DTEND;TZID=Europe/Berlin:20250318T153000
LOCATION:Online-Veranstaltung\, \,  
END:VEVENT
END:VCALENDAR
