BEGIN:VCALENDAR
VERSION:2.0
PRODID:-//Sabre//Sabre VObject 4.5.8//EN
CALSCALE:GREGORIAN
BEGIN:VEVENT
UID:sabre-vobject-8e2c74ec-1849-4824-9f35-0e0a8d44fbe8
DTSTAMP:20260422T022747Z
SUMMARY:Geschichte mit Genuss im Advent - Kulinarische Stadtführung
DESCRIPTION:https://regioningolstadt.com/geschichte-mit-genuss-im-advent-ku
 linarische-stadtfuehrung_id37713
DTSTART;TZID=Europe/Berlin:20251214T110000
DTEND;TZID=Europe/Berlin:20251214T130000
LOCATION:Vor Tourist Information am Rathausplatz\, Moritzstraße 19\, 85049
  Ingolstadt
END:VEVENT
END:VCALENDAR
