BEGIN:VCALENDAR
VERSION:2.0
PRODID:-//Sabre//Sabre VObject 4.5.8//EN
CALSCALE:GREGORIAN
BEGIN:VEVENT
UID:sabre-vobject-affd4f5f-2dc4-48ba-b044-d94c9d62d84b
DTSTAMP:20260422T083926Z
SUMMARY:Geschichte mit Genuss im Advent - Kulinarische Stadtführung
DESCRIPTION:https://regioningolstadt.com/geschichte-mit-genuss-im-advent-ku
 linarische-stadtfuehrung_id37712
DTSTART;TZID=Europe/Berlin:20251207T110000
DTEND;TZID=Europe/Berlin:20251207T130000
LOCATION:Vor Tourist Information am Rathausplatz\, Moritzstraße 19\, 85049
  Ingolstadt
END:VEVENT
END:VCALENDAR
