BEGIN:VCALENDAR
VERSION:2.0
PRODID:-//Sabre//Sabre VObject 4.5.8//EN
CALSCALE:GREGORIAN
BEGIN:VEVENT
UID:sabre-vobject-91b1914b-0c98-4b57-a481-71c59b77b896
DTSTAMP:20260422T190836Z
SUMMARY:Mission Possible – Der Notfallplan
DESCRIPTION:https://regioningolstadt.com/mission-possible-der-notfallplan_i
 d37705
DTSTART;TZID=Europe/Berlin:20250327T150000
DTEND;TZID=Europe/Berlin:20250327T163000
LOCATION:Online-Veranstaltung\, \,  
END:VEVENT
END:VCALENDAR
