BEGIN:VCALENDAR
VERSION:2.0
PRODID:-//Sabre//Sabre VObject 4.5.8//EN
CALSCALE:GREGORIAN
BEGIN:VEVENT
UID:sabre-vobject-d151bcae-c6cf-4d34-aa2f-dc6a0196ff7f
DTSTAMP:20260422T161927Z
SUMMARY:Stellenanzeigen optimal gestalten
DESCRIPTION:https://regioningolstadt.com/stellenanzeigen-optimal-gestalten_
 id37704
DTSTART;TZID=Europe/Berlin:20250325T100000
DTEND;TZID=Europe/Berlin:20250325T104500
LOCATION:Online-Veranstaltung\, \,  
END:VEVENT
END:VCALENDAR
