BEGIN:VCALENDAR
VERSION:2.0
PRODID:-//Sabre//Sabre VObject 4.5.8//EN
CALSCALE:GREGORIAN
BEGIN:VEVENT
UID:sabre-vobject-e7261a85-b6fe-4367-9b94-24560d25d7ad
DTSTAMP:20260420T234044Z
SUMMARY:Ge­kom­men\, um zu blei­ben! On­boar­ding­pro­zes­se ge­st
 al­ten
DESCRIPTION:https://regioningolstadt.com/ge-kom-men-um-zu-blei-ben-on-boar-
 ding-pro-zes-se-ge-stal-ten_id37703
DTSTART;TZID=Europe/Berlin:20250320T110000
DTEND;TZID=Europe/Berlin:20250320T120000
LOCATION:Online-Veranstaltung\, \,  
END:VEVENT
END:VCALENDAR
