BEGIN:VCALENDAR
VERSION:2.0
PRODID:-//Sabre//Sabre VObject 4.5.8//EN
CALSCALE:GREGORIAN
BEGIN:VEVENT
UID:sabre-vobject-a0e4dd19-cdb3-472d-b2cd-bb481511bd07
DTSTAMP:20260423T041833Z
SUMMARY:Fronte Rechberg
DESCRIPTION:https://regioningolstadt.com/fronte-rechberg_id37699
DTSTART;TZID=Europe/Berlin:20251122T100000
DTEND;TZID=Europe/Berlin:20251122T113000
LOCATION:Fronte Rechberg\, Rechbergstraße 2\, 85049 Ingolstadt
END:VEVENT
END:VCALENDAR
