BEGIN:VCALENDAR
VERSION:2.0
PRODID:-//Sabre//Sabre VObject 4.5.8//EN
CALSCALE:GREGORIAN
BEGIN:VEVENT
UID:sabre-vobject-ab4734aa-028f-43b3-bc7b-93c360080fc0
DTSTAMP:20260425T215148Z
SUMMARY:Vom Scherbelberg zum Schutterhof
DESCRIPTION:https://regioningolstadt.com/vom-scherbelberg-zum-schutterhof_i
 d37698
DTSTART;TZID=Europe/Berlin:20251025T100000
DTEND;TZID=Europe/Berlin:20251025T120000
LOCATION:Zugang Scherbelbergbunker\, Jahnstraße\, \,  
END:VEVENT
END:VCALENDAR
