BEGIN:VCALENDAR
VERSION:2.0
PRODID:-//Sabre//Sabre VObject 4.5.8//EN
CALSCALE:GREGORIAN
BEGIN:VEVENT
UID:sabre-vobject-31505f5d-aef1-4462-969d-0e854ba599df
DTSTAMP:20260420T220840Z
SUMMARY:transform.10 - Schulung: Basiswissen - Maschinen im Netz "Monitorin
 g von Fertigungsprozessen"
DESCRIPTION:https://regioningolstadt.com/transform-10-schulung-basiswissen-
 maschinen-im-netz-monitoring-von-fertigungsprozessen_id37688
DTSTART;TZID=Europe/Berlin:20250401T161500
DTEND;TZID=Europe/Berlin:20250401T191500
LOCATION:Techniker Schule Ingolstadt\, Adolf-Kolping-Str. 9\, 85049 Ingolst
 adt)
END:VEVENT
END:VCALENDAR
