BEGIN:VCALENDAR
VERSION:2.0
PRODID:-//Sabre//Sabre VObject 4.5.8//EN
CALSCALE:GREGORIAN
BEGIN:VEVENT
UID:sabre-vobject-04e93e8c-a921-4ba0-b8c1-b984c23842b8
DTSTAMP:20260422T234010Z
SUMMARY:Quantensichere Kommunikation und Datensicherheit für Unternehmen
DESCRIPTION:https://regioningolstadt.com/quantensichere-kommunikation-und-d
 atensicherheit-fuer-unternehmen_id37687
DTSTART;TZID=Europe/Berlin:20250327T130000
DTEND;TZID=Europe/Berlin:20250327T150000
LOCATION:Online-Veranstaltung\, \,  
END:VEVENT
END:VCALENDAR
