BEGIN:VCALENDAR
VERSION:2.0
PRODID:-//Sabre//Sabre VObject 4.5.8//EN
CALSCALE:GREGORIAN
BEGIN:VEVENT
UID:sabre-vobject-b5990df0-d3d5-4433-88ce-973b5a7c4b21
DTSTAMP:20260420T094809Z
SUMMARY:transform.10 - Schulung: "Grundlagentraining System Engineering"
DESCRIPTION:https://regioningolstadt.com/transform-10-schulung-grundlagentr
 aining-system-engineering_id37686
DTSTART;TZID=Europe/Berlin:20250319T080000
DTEND;TZID=Europe/Berlin:20250319T180000
LOCATION:Neues Dalwigk - 5. Stock\, Schloßlände 27\, 85049 Ingolstadt
END:VEVENT
END:VCALENDAR
