BEGIN:VCALENDAR
VERSION:2.0
PRODID:-//Sabre//Sabre VObject 4.5.8//EN
CALSCALE:GREGORIAN
BEGIN:VEVENT
UID:sabre-vobject-e1dce76f-8609-47c1-bee1-2d79c95420a5
DTSTAMP:20260422T115914Z
SUMMARY:Pfeifturmbegehung
DESCRIPTION:https://regioningolstadt.com/pfeifturmbegehung_id37600
DTSTART;TZID=Europe/Berlin:20250517T180000
DTEND;TZID=Europe/Berlin:20250517T184600
LOCATION:Vor Tourist Information am Rathausplatz\, Moritzstraße 19\, 85049
  Ingolstadt
END:VEVENT
END:VCALENDAR
