BEGIN:VCALENDAR
VERSION:2.0
PRODID:-//Sabre//Sabre VObject 4.5.8//EN
CALSCALE:GREGORIAN
BEGIN:VEVENT
UID:sabre-vobject-59a26429-fd1a-4b58-a071-c85581a039d5
DTSTAMP:20260421T161450Z
SUMMARY:Die große WestPark Ü30 Party
DESCRIPTION:https://regioningolstadt.com/die-grosse-westpark-ue30-party_id3
 7580
DTSTART;TZID=Europe/Berlin:20250329T210000
DTEND;TZID=Europe/Berlin:20250330T030000
LOCATION:Westpark Plaza\, Am Westpark 6\, 85057 Ingolstadt
END:VEVENT
END:VCALENDAR
