BEGIN:VCALENDAR
VERSION:2.0
PRODID:-//Sabre//Sabre VObject 4.5.8//EN
CALSCALE:GREGORIAN
BEGIN:VEVENT
UID:sabre-vobject-e9092049-a6a7-482f-8f6d-00a804494673
DTSTAMP:20260425T024931Z
SUMMARY:Ludwig der Bärtige und sein Liebfrauenmünster
DESCRIPTION:https://regioningolstadt.com/ludwig-der-baertige-und-sein-liebf
 rauenmuenster_id37570
DTSTART;TZID=Europe/Berlin:20251101T100000
DTEND;TZID=Europe/Berlin:20251101T110000
LOCATION:Kreuzigungsgruppe unter der Orgelempore im Liebfrauenmünster\, \,
   
END:VEVENT
END:VCALENDAR
