BEGIN:VCALENDAR
VERSION:2.0
PRODID:-//Sabre//Sabre VObject 4.5.8//EN
CALSCALE:GREGORIAN
BEGIN:VEVENT
UID:sabre-vobject-c4ae299b-efc5-4cdf-95e1-2ed55741b422
DTSTAMP:20260423T040126Z
SUMMARY:Geschichte mit Genuss- Kulinarische Stadtführung durch Ingolstadt
DESCRIPTION:https://regioningolstadt.com/geschichte-mit-genuss-kulinarische
 -stadtfuehrung-durch-ingolstadt_id37564
DTSTART;TZID=Europe/Berlin:20250517T110000
DTEND;TZID=Europe/Berlin:20250517T130000
LOCATION:Vor Tourist Information am Rathausplatz\, Moritzstraße 19\, 85049
  Ingolstadt
END:VEVENT
END:VCALENDAR
