BEGIN:VCALENDAR
VERSION:2.0
PRODID:-//Sabre//Sabre VObject 4.5.8//EN
CALSCALE:GREGORIAN
BEGIN:VEVENT
UID:sabre-vobject-bf5ef82e-ad3a-4f0e-add6-68ed62255d06
DTSTAMP:20260423T052847Z
SUMMARY:Donau-Stadt Ingolstadt - Raus aus der Stadt\, rein in die Natur
DESCRIPTION:https://regioningolstadt.com/donau-stadt-ingolstadt-raus-aus-de
 r-stadt-rein-in-die-natur_id37563
DTSTART;TZID=Europe/Berlin:20250517T100000
DTEND;TZID=Europe/Berlin:20250517T123000
LOCATION:am Eingang zum KAP94\, \,  
END:VEVENT
END:VCALENDAR
