BEGIN:VCALENDAR
VERSION:2.0
PRODID:-//Sabre//Sabre VObject 4.5.8//EN
CALSCALE:GREGORIAN
BEGIN:VEVENT
UID:sabre-vobject-cdd53a50-f636-4218-8fd6-a7c05162d767
DTSTAMP:20260421T204621Z
SUMMARY:Die Franziskanerbasilika - Ein Kirchenbau des steten Wandels
DESCRIPTION:https://regioningolstadt.com/die-franziskanerbasilika-ein-kirch
 enbau-des-steten-wandels_id37562
DTSTART;TZID=Europe/Berlin:20250510T100000
DTEND;TZID=Europe/Berlin:20250510T113000
LOCATION:Franziskanerkirche\, Harderstraße 4\, 85049 Ingolstadt
END:VEVENT
END:VCALENDAR
