BEGIN:VCALENDAR
VERSION:2.0
PRODID:-//Sabre//Sabre VObject 4.5.8//EN
CALSCALE:GREGORIAN
BEGIN:VEVENT
UID:sabre-vobject-bb440408-58e6-4654-a54f-fc148be967bb
DTSTAMP:20260422T120744Z
SUMMARY:Literatur-Gottesdienst
DESCRIPTION:https://regioningolstadt.com/literatur-gottesdienst_id37561
DTSTART;TZID=Europe/Berlin:20250323T170000
DTEND;TZID=Europe/Berlin:20250323T180000
LOCATION:Evangelisches Gemeindehaus St. Markus\, Am Anger 44\, 85053 Ingols
 tadt
END:VEVENT
END:VCALENDAR
