BEGIN:VCALENDAR
VERSION:2.0
PRODID:-//Sabre//Sabre VObject 4.5.8//EN
CALSCALE:GREGORIAN
BEGIN:VEVENT
UID:sabre-vobject-35090d9e-b625-4c96-9658-2c30a607707a
DTSTAMP:20260423T173536Z
SUMMARY:Die Spitalkirche - ist etwas ganz Besonderes
DESCRIPTION:https://regioningolstadt.com/die-spitalkirche-ist-etwas-ganz-be
 sonderes_id37544
DTSTART;TZID=Europe/Berlin:20251115T100000
DTEND;TZID=Europe/Berlin:20251115T110000
LOCATION:Vor der Spitalkirche\, \,  
END:VEVENT
END:VCALENDAR
