BEGIN:VCALENDAR
VERSION:2.0
PRODID:-//Sabre//Sabre VObject 4.5.8//EN
CALSCALE:GREGORIAN
BEGIN:VEVENT
UID:sabre-vobject-93b7aba8-b1ef-4c09-9a99-42472eb7ea7f
DTSTAMP:20260420T082100Z
SUMMARY:Ansichtssache. Menschliche Präparate im Museum
DESCRIPTION:https://regioningolstadt.com/ansichtssache-menschliche-praepara
 te-im-museum_id37534
DTSTART;TZID=Europe/Berlin:20250403T100000
DTEND;TZID=Europe/Berlin:20260111T170000
LOCATION:Deutsches Medizinhistorisches Museum\, Anatomiestraße 18 – 20\,
  85049 Ingolstadt
END:VEVENT
END:VCALENDAR
