BEGIN:VCALENDAR
VERSION:2.0
PRODID:-//Sabre//Sabre VObject 4.5.8//EN
CALSCALE:GREGORIAN
BEGIN:VEVENT
UID:sabre-vobject-bdac8b27-c65e-4563-9840-750bac74ce1a
DTSTAMP:20260422T174344Z
SUMMARY:Reihe Mittagsvisite: Gartenvisite
DESCRIPTION:https://regioningolstadt.com/reihe-mittagsvisite-gartenvisite_i
 d37533
DTSTART;TZID=Europe/Berlin:20250325T123000
DTEND;TZID=Europe/Berlin:20250325T130000
LOCATION:Deutsches Medizinhistorisches Museum\, Anatomiestraße 18 – 20\,
  85049 Ingolstadt
END:VEVENT
END:VCALENDAR
