BEGIN:VCALENDAR
VERSION:2.0
PRODID:-//Sabre//Sabre VObject 4.5.8//EN
CALSCALE:GREGORIAN
BEGIN:VEVENT
UID:sabre-vobject-8d3b8add-6de6-480e-82d7-d9bfb087d2fa
DTSTAMP:20260420T013427Z
SUMMARY:Reihe Mittagsvisite
DESCRIPTION:https://regioningolstadt.com/reihe-mittagsvisite_id37532
DTSTART;TZID=Europe/Berlin:20250318T123000
DTEND;TZID=Europe/Berlin:20250318T130000
LOCATION:Deutsches Medizinhistorisches Museum\, Anatomiestraße 18 – 20\,
  85049 Ingolstadt
END:VEVENT
END:VCALENDAR
