BEGIN:VCALENDAR
VERSION:2.0
PRODID:-//Sabre//Sabre VObject 4.5.8//EN
CALSCALE:GREGORIAN
BEGIN:VEVENT
UID:sabre-vobject-fab4775f-f2b1-4654-b19a-1b61982baa69
DTSTAMP:20260422T172753Z
SUMMARY:Scherbelbergbunker
DESCRIPTION:https://regioningolstadt.com/scherbelbergbunker_id37509
DTSTART;TZID=Europe/Berlin:20251129T100000
DTEND;TZID=Europe/Berlin:20251129T110000
LOCATION:Zugang Scherbelbergbunker\, Jahnstraße\, \,  
END:VEVENT
END:VCALENDAR
