BEGIN:VCALENDAR
VERSION:2.0
PRODID:-//Sabre//Sabre VObject 4.5.8//EN
CALSCALE:GREGORIAN
BEGIN:VEVENT
UID:sabre-vobject-99723e99-218d-4c40-af99-58178d1995ed
DTSTAMP:20260424T142108Z
SUMMARY:Dachstuhl und histor. Sitzungssaal Altes Rathaus
DESCRIPTION:https://regioningolstadt.com/dachstuhl-und-histor-sitzungssaal-
 altes-rathaus_id37508
DTSTART;TZID=Europe/Berlin:20251108T100000
DTEND;TZID=Europe/Berlin:20251108T104500
LOCATION:Vor Tourist Information am Rathausplatz\, Moritzstraße 19\, 85049
  Ingolstadt
END:VEVENT
END:VCALENDAR
