BEGIN:VCALENDAR
VERSION:2.0
PRODID:-//Sabre//Sabre VObject 4.5.8//EN
CALSCALE:GREGORIAN
BEGIN:VEVENT
UID:sabre-vobject-8c4ceb81-6404-4a42-8814-aa2cb8a17753
DTSTAMP:20260422T104338Z
SUMMARY:Auf den Spuren des reinen Bieres
DESCRIPTION:https://regioningolstadt.com/auf-den-spuren-des-reinen-bieres_i
 d37490
DTSTART;TZID=Europe/Berlin:20250329T100000
DTEND;TZID=Europe/Berlin:20250329T113000
LOCATION:Vor Tourist Information am Rathausplatz\, Moritzstraße 19\, 85049
  Ingolstadt
END:VEVENT
END:VCALENDAR
