BEGIN:VCALENDAR
VERSION:2.0
PRODID:-//Sabre//Sabre VObject 4.5.8//EN
CALSCALE:GREGORIAN
BEGIN:VEVENT
UID:sabre-vobject-de24740c-7ed8-4fd6-81ac-465d2a696bab
DTSTAMP:20260421T120026Z
SUMMARY:Die Festung Ingolstadt - Bayerische Landesfestung
DESCRIPTION:https://regioningolstadt.com/die-festung-ingolstadt-bayerische-
 landesfestung_id37489
DTSTART;TZID=Europe/Berlin:20250322T100000
DTEND;TZID=Europe/Berlin:20250322T113000
LOCATION:Vor Tourist Information am Rathausplatz\, Moritzstraße 19\, 85049
  Ingolstadt
END:VEVENT
END:VCALENDAR
