BEGIN:VCALENDAR
VERSION:2.0
PRODID:-//Sabre//Sabre VObject 4.5.8//EN
CALSCALE:GREGORIAN
BEGIN:VEVENT
UID:sabre-vobject-bfd2e8df-528c-47ca-ac3b-0deb524d8e9f
DTSTAMP:20260425T135328Z
SUMMARY:Ingolstadt und seine Geschichte - Klassische Stadtführung
DESCRIPTION:https://regioningolstadt.com/ingolstadt-und-seine-geschichte-kl
 assische-stadtfuehrung_id37445
DTSTART;TZID=Europe/Berlin:20251026T130000
DTEND;TZID=Europe/Berlin:20251026T143100
LOCATION:Vor Tourist Information am Rathausplatz\, Moritzstraße 19\, 85049
  Ingolstadt
END:VEVENT
END:VCALENDAR
